BEGIN:VCALENDAR
PRODID:-//AT Content Types//AT Event//EN
VERSION:2.0
METHOD:PUBLISH
BEGIN:VEVENT
DTSTAMP:20260422T062625Z
CREATED:20200228T071817Z
UID:ATEvent-1459a28a7aa04338a700575f27868bab
LAST-MODIFIED:20200710T112141Z
SUMMARY:Designated Safeguarding Lead role consultation event - London -  CANCELLED
DTSTART:20200324T103000Z
DTEND:20200324T123000Z
DESCRIPTION:We are running events to discuss the changes to the role o
 f Designated Safeguarding Lead (DSL) to have a greater focus on improv
 ing the academic achievement of children who need a social worker\, as
  set out in the KCSIE consultation. We would like to hear your views o
 n the role guidance and what additional resources\, training or suppor
 t would help DSLs to carry out this role. These events are for Designa
 ted Safeguarding Leads and school leaders. \n\nLocation: Sanctuary Bui
 ldings\, Great Smith Street\, London\, SW1P 3BT\n\nIf you wish to book
  a place on this event please email Safeguarding.SCHOOLS@education.gov
 .uk and confirm the location of the event you want to attend as well a
 s your role and school/college.
CLASS:PUBLIC
END:VEVENT
END:VCALENDAR
