BEGIN:VCALENDAR
PRODID:-//AT Content Types//AT Event//EN
VERSION:2.0
METHOD:PUBLISH
BEGIN:VEVENT
DTSTAMP:20260422T062724Z
CREATED:20200228T121928Z
UID:ATEvent-8774b96877df49cfbf6097c961dbb07f
LAST-MODIFIED:20200710T112141Z
SUMMARY:Designated Safeguarding Lead role consultation event - Bristol- FULLY BOOKED
DTSTART:20200312T103000Z
DTEND:20200312T123000Z
DESCRIPTION:We are running events to discuss the changes to the role o
 f Designated Safeguarding Lead (DSL) to have a greater focus on improv
 ing the academic achievement of children who need a social worker\, as
  set out in the KCSIE consultation. We would like to hear your views o
 n the role guidance and what additional resources\, training or suppor
 t would help DSLs to carry out this role. These events are for Designa
 ted Safeguarding Leads and school leaders. \n\nLocation: 2 Rivergate\,
  Temple Quay\, Bristol\, BS1 6EH\n\nIf you wish to book a place on thi
 s event please email Safeguarding.SCHOOLS@education.gov.uk and confirm
  the location of the event you want to attend as well as your role and
  school/college.
CLASS:PUBLIC
END:VEVENT
END:VCALENDAR
