BEGIN:VCALENDAR
PRODID:-//AT Content Types//AT Event//EN
VERSION:2.0
METHOD:PUBLISH
BEGIN:VEVENT
DTSTAMP:20260422T062715Z
CREATED:20200228T071817Z
UID:ATEvent-0d432f891d554734b23e4ad0a025530f
LAST-MODIFIED:20200710T112141Z
SUMMARY:Designated Safeguarding Lead role consultation event - Sheffield - CANCELLED
DTSTART:20200401T093000Z
DTEND:20200401T113000Z
DESCRIPTION:We are running events to discuss the changes to the role o
 f Designated Safeguarding Lead (DSL) to have a greater focus on improv
 ing the academic achievement of children who need a social worker\, as
  set out in the KCSIE consultation. We would like to hear your views o
 n the role guidance and what additional resources\, training or suppor
 t would help DSLs to carry out this role. These events are for Designa
 ted Safeguarding Leads and school leaders. \n\nLocation: 2 St Pauls Pl
 ace\, 125 Norfolk Street\, Sheffield\, S1 2FJ\n\nIf you wish to book a
  place on this event please email Safeguarding.SCHOOLS@education.gov.u
 k and confirm the location of the event you want to attend as well as 
 your role and school/college.
CLASS:PUBLIC
END:VEVENT
END:VCALENDAR
