BEGIN:VCALENDAR
PRODID:-//AT Content Types//AT Event//EN
VERSION:2.0
METHOD:PUBLISH
BEGIN:VEVENT
DTSTAMP:20260422T062608Z
CREATED:20200228T071817Z
UID:ATEvent-f89dafe7f8fd4a9cbfb50974fafe3451
LAST-MODIFIED:20200710T112141Z
SUMMARY:Designated Safeguarding Lead role consultation event -  Coventry - CANCELLED
DTSTART:20200327T103000Z
DTEND:20200327T123000Z
DESCRIPTION:We are running events to discuss the changes to the role o
 f Designated Safeguarding Lead (DSL) to have a greater focus on improv
 ing the academic achievement of children who need a social worker\, as
  set out in the KCSIE consultation. We would like to hear your views o
 n the role guidance and what additional resources\, training or suppor
 t would help DSLs to carry out this role. These events are for Designa
 ted Safeguarding Leads and school leaders. \n\nLocation: Cheylesmore H
 ouse,5 Quinton Road\, Coventry\, CV1 2WT\n\nIf you wish to book a plac
 e on this event please email Safeguarding.SCHOOLS@education.gov.uk and
  confirm the location of the event you want to attend as well as your 
 role and school/college.
CLASS:PUBLIC
END:VEVENT
END:VCALENDAR
